BEGIN:VCALENDAR
VERSION:2.0
PRODID:-//Bay Area Made - ECPv4.6.2//NONSGML v1.0//EN
CALSCALE:GREGORIAN
METHOD:PUBLISH
X-WR-CALNAME:Bay Area Made
X-ORIGINAL-URL:https://www.bayareamade.us
X-WR-CALDESC:Events for Bay Area Made
BEGIN:VEVENT
DTSTART;TZID=UTC+0:20171201T170000
DTEND;TZID=UTC+0:20171201T200000
DTSTAMP:20260415T225207
CREATED:20171127T081546Z
LAST-MODIFIED:20171128T072653Z
UID:5667-1512147600-1512158400@www.bayareamade.us
SUMMARY:Claflin\, Thayer & Co. Shop Opening Party
DESCRIPTION:Please join us for the opening party for our new leather goods retail shop and workspace in Oakland’s Temescal Alley! Drinks\, snacks\, and trunk show by local kids clothing line Baby Cats of California. \n
URL:https://www.bayareamade.us/event/claflin-thayer-co-shop-opening-party/
LOCATION:470E 49th St.\, Oakland\, CA\, 94609
CATEGORIES:Member Event
ATTACH;FMTTYPE=image/jpeg:https://www.bayareamade.us/wp-content/uploads/2017/11/41593858-8624-4596-8BAC-00F19FF08611.jpeg
ORGANIZER;CN="Claflin%2C%20Thayer%20%26amp%3B%20Co.":MAILTO:Info@claflinthayer.com
END:VEVENT
END:VCALENDAR